BEGIN:VCALENDAR
VERSION:2.0
PRODID:-//West Ridge Elementary PTA - ECPv6.15.17.1//NONSGML v1.0//EN
CALSCALE:GREGORIAN
METHOD:PUBLISH
X-ORIGINAL-URL:https://www.westridgeelementarypta.com
X-WR-CALDESC:Events for West Ridge Elementary PTA
REFRESH-INTERVAL;VALUE=DURATION:PT1H
X-Robots-Tag:noindex
X-PUBLISHED-TTL:PT1H
BEGIN:VTIMEZONE
TZID:America/Denver
BEGIN:DAYLIGHT
TZOFFSETFROM:-0700
TZOFFSETTO:-0600
TZNAME:MDT
DTSTART:20210314T090000
END:DAYLIGHT
BEGIN:STANDARD
TZOFFSETFROM:-0600
TZOFFSETTO:-0700
TZNAME:MST
DTSTART:20211107T080000
END:STANDARD
BEGIN:DAYLIGHT
TZOFFSETFROM:-0700
TZOFFSETTO:-0600
TZNAME:MDT
DTSTART:20220313T090000
END:DAYLIGHT
BEGIN:STANDARD
TZOFFSETFROM:-0600
TZOFFSETTO:-0700
TZNAME:MST
DTSTART:20221106T080000
END:STANDARD
BEGIN:DAYLIGHT
TZOFFSETFROM:-0700
TZOFFSETTO:-0600
TZNAME:MDT
DTSTART:20230312T090000
END:DAYLIGHT
BEGIN:STANDARD
TZOFFSETFROM:-0600
TZOFFSETTO:-0700
TZNAME:MST
DTSTART:20231105T080000
END:STANDARD
BEGIN:DAYLIGHT
TZOFFSETFROM:-0700
TZOFFSETTO:-0600
TZNAME:MDT
DTSTART:20240310T090000
END:DAYLIGHT
BEGIN:STANDARD
TZOFFSETFROM:-0600
TZOFFSETTO:-0700
TZNAME:MST
DTSTART:20241103T080000
END:STANDARD
END:VTIMEZONE
BEGIN:VTIMEZONE
TZID:Africa/Abidjan
BEGIN:STANDARD
TZOFFSETFROM:+0000
TZOFFSETTO:+0000
TZNAME:GMT
DTSTART:20210101T000000
END:STANDARD
END:VTIMEZONE
BEGIN:VEVENT
DTSTART;VALUE=DATE:20230519
DTEND;VALUE=DATE:20230520
DTSTAMP:20260421T045346
CREATED:20220727T085540Z
LAST-MODIFIED:20220727T085737Z
UID:1434-1684454400-1684540799@www.westridgeelementarypta.com
SUMMARY:Last Day for Preschool Students
DESCRIPTION:Have a great summer\, Wildcats!
URL:https://www.westridgeelementarypta.com/event/last-day-for-preschool-students/
LOCATION:West Ridge Elementary School-Art Room\, 13102 Monaco Street\, Thornton\, 80602\, United States
END:VEVENT
BEGIN:VEVENT
DTSTART;TZID=America/Denver:20230511T180000
DTEND;TZID=America/Denver:20230511T180000
DTSTAMP:20260421T045346
CREATED:20220731T064426Z
LAST-MODIFIED:20230422T193901Z
UID:1457-1683828000-1683828000@www.westridgeelementarypta.com
SUMMARY:PTA Meeting
DESCRIPTION:Please join us for a Welcome Reception beginning at 6:00 pm; the meeting will start at 6:15 pm.  Meetings are held in the library and free childcare is provided on-site. \nDuring this meeting\, we will take time to recognize our special Sponsors and Volunteers\, whose invaluable support of our school is greatly appreciated!  Dinner will be provided by our sponsor\, Marco’s Pizza.  We will have a shortened agenda\, which will include a vote on the proposed WRE PTA Budget for 2023-2024 school year.  We will also welcome our guest speakers\, Specials Teachers (Music and PE).  You must be a paid PTA Member to vote\, but membership is not required to attend meetings. \nTo become a WRE PTA Member\, please visit our website:  http://www.WestRidgeElementaryPTA.com
URL:https://www.westridgeelementarypta.com/event/pta-meeting-4/
LOCATION:West Ridge Elementary School – Library\, 13102 Monaco St\, Thornton\, CO\, 80602\, United States
END:VEVENT
BEGIN:VEVENT
DTSTART;TZID=America/Denver:20230505T173000
DTEND;TZID=America/Denver:20230505T193000
DTSTAMP:20260421T045346
CREATED:20220727T091112Z
LAST-MODIFIED:20230422T194011Z
UID:1451-1683307800-1683315000@www.westridgeelementarypta.com
SUMMARY:Family FUN Night
DESCRIPTION:Join us on the playground and blacktop for a night of games\, inflatables (volunteer dependent)\, music\, and food trucks!  Bring your chairs or blankets for lounging and spend the evening with friends\, old and new. \nWe request a parent stay with their child(ren) as this is NOT a drop-off event.  Bathroom access will be available inside the building during this event. \nCost:  FREE \nVolunteer Sign-Up: https://www.signupgenius.com/go/10C0F4FA4A92DA2F5C52-family
URL:https://www.westridgeelementarypta.com/event/family-fun-night/
LOCATION:West Ridge Elementary School-Art Room\, 13102 Monaco Street\, Thornton\, 80602\, United States
END:VEVENT
BEGIN:VEVENT
DTSTART;VALUE=DATE:20230502
DTEND;VALUE=DATE:20230506
DTSTAMP:20260421T045346
CREATED:20220727T085336Z
LAST-MODIFIED:20220727T085417Z
UID:1431-1682985600-1683331199@www.westridgeelementarypta.com
SUMMARY:Staff Appreciation Week
DESCRIPTION:Help the PTA spoil our Wildcat Staff!  Watch our Facebook page and website for more information\, including chances to help through donations\, volunteering and ideas of simple (no or low cost) ways your students can make their teacher or favorite staff person feel special.
URL:https://www.westridgeelementarypta.com/event/staff-appreciation-week/
LOCATION:West Ridge Elementary School-Art Room\, 13102 Monaco Street\, Thornton\, 80602\, United States
END:VEVENT
BEGIN:VEVENT
DTSTART;TZID=America/Denver:20230424T160000
DTEND;TZID=America/Denver:20230424T200000
DTSTAMP:20260421T045346
CREATED:20230224T012940Z
LAST-MODIFIED:20230224T012940Z
UID:1677-1682352000-1682366400@www.westridgeelementarypta.com
SUMMARY:Spirit Night:  Urban Air (Westminster)
DESCRIPTION:Need a way to help burn off your kid’s energy?  We have the perfect solution!  Join us at Urban Air (7025 W 88th Ave\, Westminster) for jumping\, climbing\, fun!  Discounted admission will be offered to WRE families\, just mention our school at the register.  WRE will receive a 20% donation back from all proceeds. \nSpirit Night Pricing:\nPlatinum:  $25.99 (reg. $35.99)\nUltimate:  $20.99 (reg. $30.99)\nDeluxe:    $16.99 (reg. $23.99) \nUrban Air socks will be available to purchase for $3.49.  No personal socks are allowed. Waiver is required to play. \nVisit the website for more information about packages and to complete the required waiver. See link below.
URL:https://www.westridgeelementarypta.com/event/spirit-night-urban-air-westminster/
LOCATION:CO
END:VEVENT
BEGIN:VEVENT
DTSTART;TZID=America/Denver:20230422T080000
DTEND;TZID=America/Denver:20230422T170000
DTSTAMP:20260421T045346
CREATED:20230422T193330Z
LAST-MODIFIED:20230422T193339Z
UID:1696-1682150400-1682182800@www.westridgeelementarypta.com
SUMMARY:Last Day of School-Kindergarten
DESCRIPTION:Happy last day\, Kindergarteners!  Students will be released for the school year following a special ceremony.  More details will be shared by the school in the near future.
URL:https://www.westridgeelementarypta.com/event/last-day-of-school-kindergarten/
LOCATION:CO
END:VEVENT
BEGIN:VEVENT
DTSTART;TZID=America/Denver:20230421T180000
DTEND;TZID=America/Denver:20230421T193000
DTSTAMP:20260421T045346
CREATED:20220727T084953Z
LAST-MODIFIED:20230326T225959Z
UID:1428-1682100000-1682105400@www.westridgeelementarypta.com
SUMMARY:UNO Tournament
DESCRIPTION:Join us for our first UNO Tournament!  Enjoy playing the classic card game\, but don’t forget to yell “UNO!” when you have one card left\, or you’ll have to draw more cards!   \nConcessions will be available to purchase. \nAdmission:  FREE.   \nRegistration required: https://www.signupgenius.com/go/10C0F4FA4A92DA2F5C52-bingo2 \n  \n 
URL:https://www.westridgeelementarypta.com/event/school-dance/
LOCATION:West Ridge Elementary – Gymnasium\, 13102 Monaco St\, Thornton\, CO\, 80602\, United States
END:VEVENT
BEGIN:VEVENT
DTSTART;TZID=America/Denver:20230418T160000
DTEND;TZID=America/Denver:20230418T200000
DTSTAMP:20260421T045346
CREATED:20230205T214654Z
LAST-MODIFIED:20230205T214654Z
UID:1651-1681833600-1681848000@www.westridgeelementarypta.com
SUMMARY:Spirit Night:  Dairy Queen
DESCRIPTION:Stop in for an after school treat or grab dessert!  A percentage of ALL sales during the Spirit Night will be donated back to our school.  Valid only at the location below.
URL:https://www.westridgeelementarypta.com/event/spirit-night-dairy-queen/
LOCATION:Dairy Queen\, 3894 E 120th Ave\, Unit A\, Thornton\, CO\, 80233\, United States
END:VEVENT
BEGIN:VEVENT
DTSTART;TZID=America/Denver:20230406T180000
DTEND;TZID=America/Denver:20230406T193000
DTSTAMP:20260421T045346
CREATED:20220727T074259Z
LAST-MODIFIED:20220731T063702Z
UID:1425-1680804000-1680809400@www.westridgeelementarypta.com
SUMMARY:PTA Meeting
DESCRIPTION:Please join us for a Welcome Reception beginning at 6:00 pm; the meeting will start at 6:15 pm.  Meetings are held in the library and free childcare is provided on-site. \nDuring this meeting\, we will vote to elect new WRE PTA Board Members for any open positions.  You must be a paid PTA Member to vote\, but membership is not required to attend meetings. \nTo become a WRE PTA Member\, please visit our website:  http://www.WestRidgeElementaryPTA.com
URL:https://www.westridgeelementarypta.com/event/pta-member-meeting-8/
LOCATION:West Ridge Elementary School – Library\, 13102 Monaco St\, Thornton\, CO\, 80602\, United States
END:VEVENT
BEGIN:VEVENT
DTSTART;TZID=America/Denver:20230330T173000
DTEND;TZID=America/Denver:20230330T193000
DTSTAMP:20260421T045346
CREATED:20221204T065308Z
LAST-MODIFIED:20230326T224603Z
UID:1617-1680197400-1680204600@www.westridgeelementarypta.com
SUMMARY:Spirit Night: Skate City  (200 W. 121st St.)
DESCRIPTION:Bring your skates (or rent a pair there) and skate the night away to current and past tunes! \nAdmission:  $7.00 and $4.00 skate rental (if needed) \nSkip the line and pre-purchase admission here:  https://us.partywirks.com/storefront_express/main/vendor/skate_city_colorado/520 \nFundraising Potential:  The school will earn back at least $3 for each paid skater in the door!  This is a private school event and therefore\, closed to the public (so we have the whole place to ourselves)! \nBonus:  Non-skating parents are free!
URL:https://www.westridgeelementarypta.com/event/spirit-night-skate-city-200-w-121st-st/
LOCATION:Skate City\, 200 W 121st Avenue\, Westminster\, CO\, 80234\, United States
END:VEVENT
BEGIN:VEVENT
DTSTART;VALUE=DATE:20230321
DTEND;VALUE=DATE:20230325
DTSTAMP:20260421T045346
CREATED:20220727T073744Z
LAST-MODIFIED:20220727T073744Z
UID:1422-1679356800-1679702399@www.westridgeelementarypta.com
SUMMARY:Spring Break
DESCRIPTION:
URL:https://www.westridgeelementarypta.com/event/spring-break/
LOCATION:CO
END:VEVENT
BEGIN:VEVENT
DTSTART;TZID=America/Denver:20230310T180000
DTEND;TZID=America/Denver:20230310T200000
DTSTAMP:20260421T045346
CREATED:20220727T073122Z
LAST-MODIFIED:20230224T045247Z
UID:1418-1678471200-1678478400@www.westridgeelementarypta.com
SUMMARY:Glow Paint Night
DESCRIPTION:Join us for a night of painting.  When the lights go out\, your artistic creation will GLOW! \nCost:  $5\, includes art supplies and a snack. \nPre-registration is required. This event is limited to 30 students.  Click the link here to register: https://signupgenius.com/#!/showSignUp/10c0f4fa4a92da2f5c52-glow    \nParents are welcome to stay and help their student(s) or drop off their Wildcat at this event.  Due to space\, seating will only be provided for the Wildcat painters. \n  \n 
URL:https://www.westridgeelementarypta.com/event/glow-paint-night/
LOCATION:West Ridge Elementary School-Art Room\, 13102 Monaco Street\, Thornton\, 80602\, United States
END:VEVENT
BEGIN:VEVENT
DTSTART;TZID=America/Denver:20230307T160000
DTEND;TZID=America/Denver:20230307T220000
DTSTAMP:20260421T045346
CREATED:20221204T064642Z
LAST-MODIFIED:20230224T014025Z
UID:1614-1678204800-1678226400@www.westridgeelementarypta.com
SUMMARY:Spirit Night:  Old Chicago (3909 E. 120th Ave.)
DESCRIPTION:It’s the perfect night for a slice of pizza or a whole pie!  Mention WRE when you order and pay to help WRE earn funds for school and community activities.  Online ordering code coming soon! We’ll see you there!
URL:https://www.westridgeelementarypta.com/event/spirit-night-old-chicago-3909-e-120th-ave/
LOCATION:Old Chicago Pizza\, 3909 E. 120th Ave\, Thornton\, CO\, 80233\, United States
END:VEVENT
BEGIN:VEVENT
DTSTART;TZID=America/Denver:20230302T180000
DTEND;TZID=America/Denver:20230302T193000
DTSTAMP:20260421T045346
CREATED:20220727T062619Z
LAST-MODIFIED:20220731T201540Z
UID:1415-1677780000-1677785400@www.westridgeelementarypta.com
SUMMARY:PTA Meeting
DESCRIPTION:Please join us for a Welcome Reception beginning at 6:00 pm; the meeting will start at 6:15 pm.  Meetings are held in the library and free childcare is provided on-site. \nYou must be a paid WRE PTA Member to vote\, but membership is not required to attend meetings.  To become a WRE PTA Member\, please visit our website:  http://www.WestRidgeElementaryPTA.com
URL:https://www.westridgeelementarypta.com/event/pta-member-meeting-7/
LOCATION:West Ridge Elementary School – Library\, 13102 Monaco St\, Thornton\, CO\, 80602\, United States
END:VEVENT
BEGIN:VEVENT
DTSTART;TZID=America/Denver:20230224T180000
DTEND;TZID=America/Denver:20230224T193000
DTSTAMP:20260421T045346
CREATED:20221204T063553Z
LAST-MODIFIED:20230119T054031Z
UID:1612-1677261600-1677267000@www.westridgeelementarypta.com
SUMMARY:BINGO for Books
DESCRIPTION:It’s a race to fill your card and yell B-I-N-G-O first!  Each game winner will receive a book of their choice from a large selection of books for all ages.  This event is open to all WRE families and staff.   \nConcessions will be available to purchase. If you earned a Concession Pass in your RUSH fundraising prizes\, it can be redeemed at this event for one (1) drink and one (1) food item.  Coupon must be presented to redeem.   \nWe kindly ask parents to remain with their Wildcats as this is NOT a drop-off event.   \nInterested in helping plan or volunteer for this event. Reach out to Michelle\, Secretary @ WREPTA@WestRidgeElemtnaryPTA.com. \nCost:  FREE
URL:https://www.westridgeelementarypta.com/event/bingo-for-books-3/
LOCATION:West Ridge Elementary School-Art Room\, 13102 Monaco Street\, Thornton\, 80602\, United States
END:VEVENT
BEGIN:VEVENT
DTSTART;TZID=America/Denver:20230215T160000
DTEND;TZID=America/Denver:20230215T200000
DTSTAMP:20260421T045346
CREATED:20221029T221645Z
LAST-MODIFIED:20230119T053559Z
UID:1593-1676476800-1676491200@www.westridgeelementarypta.com
SUMMARY:Spirit Night:  Chipotle-Thornton
DESCRIPTION:Keep the kitchen clean and head on over to Chipotle for dinner.  A portion of sales to WRE families will be given back to our school.   \nPlease show the attached flyer or mention WRE at checkout.  For online orders\, enter code T7VTGRW.  Code valid for pick-up orders only\, does not apply to delivery orders.  Feed your family and support WRE!
URL:https://www.westridgeelementarypta.com/event/spirit-night-chipotle-thornton/
LOCATION:Chipotle Thornton\, 951 E 120th Avenue\, Unit A\, Thornton\, CO\, 80233\, United States
END:VEVENT
BEGIN:VEVENT
DTSTART;VALUE=DATE:20230213
DTEND;VALUE=DATE:20230221
DTSTAMP:20260421T045346
CREATED:20230127T051049Z
LAST-MODIFIED:20230127T051049Z
UID:1646-1676246400-1676937599@www.westridgeelementarypta.com
SUMMARY:Spirit Week @ Frenchie's
DESCRIPTION:Pamper yourself and support one of our RUSH Sponsors!  Stop in for a nail service\, purchase a retail product or grab a gift card for future use or gifting; all purchases made will generate money back to WRE.
URL:https://www.westridgeelementarypta.com/event/spirit-week-frenchies/
LOCATION:Frenchies\, 7345 E 128th Ave\, Thornton\, CO\, 80602
END:VEVENT
BEGIN:VEVENT
DTSTART;TZID=America/Denver:20230209T160000
DTEND;TZID=America/Denver:20230209T173000
DTSTAMP:20260421T045346
CREATED:20221213T110431Z
LAST-MODIFIED:20221213T110431Z
UID:1625-1675958400-1675963800@www.westridgeelementarypta.com
SUMMARY:Kindergarten Round Up
DESCRIPTION:Do you have a child who will turn 5 before October 1\, 2023?  It’s time to sign up for Kindergarten!  Join us at West Ridge Elementary to find out more about what Kindergarten is at our school.
URL:https://www.westridgeelementarypta.com/event/kindergarten-round-up-2/
LOCATION:West Ridge Elementary – Gymnasium\, 13102 Monaco St\, Thornton\, CO\, 80602\, United States
END:VEVENT
BEGIN:VEVENT
DTSTART;TZID=America/Denver:20230202T180000
DTEND;TZID=America/Denver:20230202T193000
DTSTAMP:20260421T045346
CREATED:20220727T044316Z
LAST-MODIFIED:20220731T201606Z
UID:1403-1675360800-1675366200@www.westridgeelementarypta.com
SUMMARY:PTA Meeting
DESCRIPTION:Please join us for a Welcome Reception beginning at 6:00 pm; the meeting will start at 6:15 pm.  Meetings are held in the library and free childcare is provided on-site. \nThere will be a call for nominations for any open WRE PTA Board elected positions at this meeting. \nYou must be a paid WRE PTA Member to vote\, but membership is not required to attend meetings.   To become a WRE PTA Member\, please visit our website:  http://www.WestRidgeElementaryPTA.com
URL:https://www.westridgeelementarypta.com/event/pta-member-meeting-6/
LOCATION:West Ridge Elementary School – Library\, 13102 Monaco St\, Thornton\, CO\, 80602\, United States
END:VEVENT
BEGIN:VEVENT
DTSTART;TZID=America/Denver:20230125T170000
DTEND;TZID=America/Denver:20230125T170000
DTSTAMP:20260421T045346
CREATED:20221204T062637Z
LAST-MODIFIED:20230118T215624Z
UID:1608-1674666000-1674666000@www.westridgeelementarypta.com
SUMMARY:Spirit Night: Wendy's (4101 E. 136th Ave.)
DESCRIPTION:f***This event is rescheduled from 1/18/2023 due to weather! *** \nGrab some fries to dip in your Frosty or enjoy a sandwich for dinner!  Bring your friends and tell your family\, because 15% of ALL sales from 5-8 pm will be donated back to WRE PTA.  We’ll see you there!
URL:https://www.westridgeelementarypta.com/event/spirit-night-wendys-4101-e-136th-ave/
LOCATION:Wendy’s\, 4101 E. 136th Ave\, Thornton\, CO\, 80602\, United States
END:VEVENT
BEGIN:VEVENT
DTSTART;TZID=America/Denver:20230120T180000
DTEND;TZID=America/Denver:20230120T200000
DTSTAMP:20260421T045346
CREATED:20220727T042631Z
LAST-MODIFIED:20230119T053210Z
UID:1396-1674237600-1674244800@www.westridgeelementarypta.com
SUMMARY:Wildcat Western Round-Up
DESCRIPTION:We might not be as big as the National Western Stock Show\, but we promise to offer LOTS of FUN!  Stop by and enjoy a variety of crafts\, activities\, line dancing and instruction in square dancing! \nCost:  FREE \nWe request a parent stay with their child(ren) as this is NOT a drop-off event.  Parents and siblings are encouraged to attend and participate. Activities will be designed for the elementary school aged child.  Concessions will be available for purchase.
URL:https://www.westridgeelementarypta.com/event/wre-rodeo-round-up/
LOCATION:West Ridge Elementary School-Art Room\, 13102 Monaco Street\, Thornton\, 80602\, United States
END:VEVENT
BEGIN:VEVENT
DTSTART;TZID=America/Denver:20230112T180000
DTEND;TZID=America/Denver:20230112T193000
DTSTAMP:20260421T045346
CREATED:20220727T041442Z
LAST-MODIFIED:20220731T201709Z
UID:1394-1673546400-1673551800@www.westridgeelementarypta.com
SUMMARY:PTA Meeting
DESCRIPTION:Please join us for a Welcome Reception beginning at 6:00 pm; the meeting will start at 6:15 pm.  Meetings are held in the library and free childcare is provided on-site. \nYou must be a paid PTA Member to vote\, but membership is not required to attend meetings.  To become a WRE PTA Member\, please visit our website:  http://www.WestRidgeElementaryPTA.com
URL:https://www.westridgeelementarypta.com/event/pta-member-meeting-5/
LOCATION:West Ridge Elementary School – Library\, 13102 Monaco St\, Thornton\, CO\, 80602\, United States
END:VEVENT
BEGIN:VEVENT
DTSTART;VALUE=DATE:20230110
DTEND;VALUE=DATE:20230111
DTSTAMP:20260421T045346
CREATED:20220727T041239Z
LAST-MODIFIED:20220727T041239Z
UID:1392-1673308800-1673395199@www.westridgeelementarypta.com
SUMMARY:1st Day of 2nd Semester
DESCRIPTION:
URL:https://www.westridgeelementarypta.com/event/1st-day-of-2nd-semester/
LOCATION:CO
END:VEVENT
BEGIN:VEVENT
DTSTART;VALUE=DATE:20221227
DTEND;VALUE=DATE:20230107
DTSTAMP:20260421T045346
CREATED:20220727T041054Z
LAST-MODIFIED:20220727T041054Z
UID:1390-1672099200-1673049599@www.westridgeelementarypta.com
SUMMARY:Winter Break-NO SCHOOL
DESCRIPTION:
URL:https://www.westridgeelementarypta.com/event/winter-break-no-school/
LOCATION:CO
END:VEVENT
BEGIN:VEVENT
DTSTART;VALUE=DATE:20221223
DTEND;VALUE=DATE:20221224
DTSTAMP:20260421T045346
CREATED:20220727T040947Z
LAST-MODIFIED:20220727T040947Z
UID:1387-1671753600-1671839999@www.westridgeelementarypta.com
SUMMARY:End of 1st Semester
DESCRIPTION:
URL:https://www.westridgeelementarypta.com/event/end-of-1st-semester/
LOCATION:CO
END:VEVENT
BEGIN:VEVENT
DTSTART;TZID=America/Denver:20221210T110000
DTEND;TZID=America/Denver:20221210T140000
DTSTAMP:20260421T045346
CREATED:20220727T040449Z
LAST-MODIFIED:20221130T021311Z
UID:1383-1670670000-1670680800@www.westridgeelementarypta.com
SUMMARY:Wildcat Wonderland Shoppe
DESCRIPTION:The holidays are just around the corner!  Come support WRE PTA and local\, community vendors at our annual Wildcat Wonderland Shoppe.  There with be a kid’s holiday shop from Fun Services where our Wildcats will be able to shop for affordable gifts.  We’ll even help wrap your gift selections!  With so many options to choose from\, you are sure to find the PERFECT gift for everyone on your list. \nHungry?  A local food truck will be on-site for food purchases to make sure you have energy to shop (until you drop)!  Kids will be delighted to stop in and say hello to Santa himself.  Pictures with Santa will be available for a small fee.  We hope to see you there to help spread some holiday CHEER! \nIf you are interested in having a vendor booth at Wildcat Wonderland Shoppe\, please email our VicePresident@WestRidgeElementaryPTA.com.
URL:https://www.westridgeelementarypta.com/event/wildcat-wonderland-shoppe/
LOCATION:West Ridge Elementary – Gymnasium\, 13102 Monaco St\, Thornton\, CO\, 80602\, United States
END:VEVENT
BEGIN:VEVENT
DTSTART;TZID=America/Denver:20221201T180000
DTEND;TZID=America/Denver:20221201T193000
DTSTAMP:20260421T045346
CREATED:20220727T040827Z
LAST-MODIFIED:20220731T201648Z
UID:1385-1669917600-1669923000@www.westridgeelementarypta.com
SUMMARY:PTA Meeting
DESCRIPTION:Please join us for a Welcome Reception beginning at 6:00 pm; the meeting will start at 6:15 pm.  Meetings are held in the library and free childcare is provided on-site. \nYou must be a paid PTA Member to vote\, but membership is not required to attend meetings.  To become a WRE PTA Member\, please visit our website:  http://www.WestRidgeElementaryPTA.com
URL:https://www.westridgeelementarypta.com/event/pta-member-meeting-4/
LOCATION:West Ridge Elementary School – Library\, 13102 Monaco St\, Thornton\, CO\, 80602\, United States
END:VEVENT
BEGIN:VEVENT
DTSTART;VALUE=DATE:20221122
DTEND;VALUE=DATE:20221126
DTSTAMP:20260421T045346
CREATED:20220727T034721Z
LAST-MODIFIED:20220727T034721Z
UID:1381-1669075200-1669420799@www.westridgeelementarypta.com
SUMMARY:Thanksgiving Break
DESCRIPTION:
URL:https://www.westridgeelementarypta.com/event/thanksgiving-break/
LOCATION:CO
END:VEVENT
BEGIN:VEVENT
DTSTART;TZID=America/Denver:20221111T180000
DTEND;TZID=America/Denver:20221111T200000
DTSTAMP:20260421T045346
CREATED:20220727T034431Z
LAST-MODIFIED:20221029T220143Z
UID:1377-1668189600-1668196800@www.westridgeelementarypta.com
SUMMARY:Movie Night
DESCRIPTION:Please join us for a family-friendly movie in the school parking lot.  Stay warm in your car\, make a special spot in the back of your truck\, or bring your own chair to set up and watch the movie.  Concessions and non-alcoholic beverages will be available for purchase.  Wildcat RUSH concession coupons can be redeemed at this event (must present coupon).  Restrooms will be accessible.  Lot will open at 5:30 pm for parking. \nCost:  FREE \nPre-registration is required for vehicle parking and limited to 40 cars/trucks. Sign up for a car space below.  There is unlimited space for chairs. \nhttps://m.signupgenius.com/#!/showSignUp/10c0f4fa4a92da2f5c52-movie \n*In the event of inclement weather\, the event will be moved to Friday\, November 18\, 2022.
URL:https://www.westridgeelementarypta.com/event/movie-night/
LOCATION:West Ridge Elementary School-Art Room\, 13102 Monaco Street\, Thornton\, 80602\, United States
END:VEVENT
BEGIN:VEVENT
DTSTART;TZID=America/Denver:20221103T180000
DTEND;TZID=America/Denver:20221103T193000
DTSTAMP:20260421T045346
CREATED:20220727T033324Z
LAST-MODIFIED:20221029T215004Z
UID:1375-1667498400-1667503800@www.westridgeelementarypta.com
SUMMARY:PTA Meeting
DESCRIPTION:Please join us for a Welcome Reception beginning at 6:00 pm; the meeting will start at 6:15 pm.  Meetings are held in the library and free childcare is provided on-site. \nWe look forward to welcoming this month’s speakers\, Assistant Principal\, Lindsey Zimmerman and School Counselor\, Amanda Reaves. They will discuss social-emotional learning\, TRAIL\, CHAMPS and how these impact our Wildcats. \nYou must be a paid PTA Member to vote\, but membership is not required to attend meetings.  To become a WRE PTA Member\, please visit our website:  http://www.WestRidgeElementaryPTA.com
URL:https://www.westridgeelementarypta.com/event/pta-member-meeting-3/
LOCATION:West Ridge Elementary School – Library\, 13102 Monaco St\, Thornton\, CO\, 80602\, United States
END:VEVENT
END:VCALENDAR