BEGIN:VCALENDAR
VERSION:2.0
PRODID:-//West Ridge Elementary PTA - ECPv6.15.17.1//NONSGML v1.0//EN
CALSCALE:GREGORIAN
METHOD:PUBLISH
X-WR-CALNAME:West Ridge Elementary PTA
X-ORIGINAL-URL:https://www.westridgeelementarypta.com
X-WR-CALDESC:Events for West Ridge Elementary PTA
REFRESH-INTERVAL;VALUE=DURATION:PT1H
X-Robots-Tag:noindex
X-PUBLISHED-TTL:PT1H
BEGIN:VTIMEZONE
TZID:America/Denver
BEGIN:DAYLIGHT
TZOFFSETFROM:-0700
TZOFFSETTO:-0600
TZNAME:MDT
DTSTART:20210314T090000
END:DAYLIGHT
BEGIN:STANDARD
TZOFFSETFROM:-0600
TZOFFSETTO:-0700
TZNAME:MST
DTSTART:20211107T080000
END:STANDARD
BEGIN:DAYLIGHT
TZOFFSETFROM:-0700
TZOFFSETTO:-0600
TZNAME:MDT
DTSTART:20220313T090000
END:DAYLIGHT
BEGIN:STANDARD
TZOFFSETFROM:-0600
TZOFFSETTO:-0700
TZNAME:MST
DTSTART:20221106T080000
END:STANDARD
BEGIN:DAYLIGHT
TZOFFSETFROM:-0700
TZOFFSETTO:-0600
TZNAME:MDT
DTSTART:20230312T090000
END:DAYLIGHT
BEGIN:STANDARD
TZOFFSETFROM:-0600
TZOFFSETTO:-0700
TZNAME:MST
DTSTART:20231105T080000
END:STANDARD
END:VTIMEZONE
BEGIN:VTIMEZONE
TZID:Africa/Abidjan
BEGIN:STANDARD
TZOFFSETFROM:+0000
TZOFFSETTO:+0000
TZNAME:GMT
DTSTART:20210101T000000
END:STANDARD
END:VTIMEZONE
BEGIN:VTIMEZONE
TZID:UTC
BEGIN:STANDARD
TZOFFSETFROM:+0000
TZOFFSETTO:+0000
TZNAME:UTC
DTSTART:20210101T000000
END:STANDARD
END:VTIMEZONE
BEGIN:VEVENT
DTSTART;TZID=America/Denver:20220922T160000
DTEND;TZID=America/Denver:20220922T200000
DTSTAMP:20260421T133447
CREATED:20220720T102519Z
LAST-MODIFIED:20220720T102519Z
UID:1341-1663862400-1663876800@www.westridgeelementarypta.com
SUMMARY:Spirit Night:  Chick-fil-A
DESCRIPTION:Head over to Chick-fil-A at 1301 E 120th Avenue in Thornton and let them make dinner!  A portion of the sales during this time will be donated back to the WRE PTA to support our teachers and students throughout the school year.  You know what they say…”Eat Mor Chikin”!
URL:https://www.westridgeelementarypta.com/event/spirit-night-chick-fil-a/
LOCATION:Chick-fil-A\, 1301 E 120th Ave\, Thornton\, CO\, 80233\, United States
END:VEVENT
BEGIN:VEVENT
DTSTART;TZID=America/Denver:20220917T093000
DTEND;TZID=America/Denver:20220917T103000
DTSTAMP:20260421T133447
CREATED:20220727T031743Z
LAST-MODIFIED:20220727T031743Z
UID:1338-1663407000-1663410600@www.westridgeelementarypta.com
SUMMARY:Donuts with Grown-Ups (Grades 3-5)
DESCRIPTION:Wildcat students grab your grown-ups and head to the WRE playground for donuts!  This is a FREE event\, but pre-registration is required to ensure we have enough to feed our hungry Cubs and families. \nWe hope you are able to come and meet other students from your grade level\, along with their grown-ups!   This is one event you “do-nut” want to miss! \nRegister here:  https://www.signupgenius.com/go/10C0F4FA4A92DA2F5C52-donuts1
URL:https://www.westridgeelementarypta.com/event/donuts-with-grown-ups-grades-3-5/
LOCATION:West Ridge Elementary School-Art Room\, 13102 Monaco Street\, Thornton\, 80602\, United States
END:VEVENT
BEGIN:VEVENT
DTSTART;TZID=America/Denver:20220917T083000
DTEND;TZID=America/Denver:20220917T093000
DTSTAMP:20260421T133447
CREATED:20220727T031256Z
LAST-MODIFIED:20220727T031256Z
UID:1336-1663403400-1663407000@www.westridgeelementarypta.com
SUMMARY:Donuts with Grown-Ups (Preschool - 2nd Grade)
DESCRIPTION:Wildcat students grab your grown-ups and head to the WRE playground for donuts!  This is a FREE event\, but pre-registration is required to ensure we have enough to feed our hungry Cubs and families. \nWe hope you are able to come and meet other students from your grade level\, along with their grown-ups!   This is one event you “do-nut” want to miss! \nRegister here:  https://www.signupgenius.com/go/10C0F4FA4A92DA2F5C52-donuts
URL:https://www.westridgeelementarypta.com/event/donuts-with-grown-ups-preschool-2nd-grade/
END:VEVENT
BEGIN:VEVENT
DTSTART;VALUE=DATE:20220909
DTEND;VALUE=DATE:20220910
DTSTAMP:20260421T133447
CREATED:20220720T095117Z
LAST-MODIFIED:20220720T095117Z
UID:1333-1662681600-1662767999@www.westridgeelementarypta.com
SUMMARY:RUSH Fundraising Packets Due
DESCRIPTION:Please submit your student’s RUSH Fundraising Packets to the school by 4 pm.  Packets received after the deadline will not be counted toward individual student fundraising totals\, but will be counted toward the overall school fundraising goal.
URL:https://www.westridgeelementarypta.com/event/rush-fundraising-packets-due/
LOCATION:West Ridge Elementary School-Art Room\, 13102 Monaco Street\, Thornton\, 80602\, United States
END:VEVENT
BEGIN:VEVENT
DTSTART;TZID=America/Denver:20220907T173000
DTEND;TZID=America/Denver:20220907T193000
DTSTAMP:20260421T133447
CREATED:20220817T024524Z
LAST-MODIFIED:20220817T024524Z
UID:1505-1662571800-1662579000@www.westridgeelementarypta.com
SUMMARY:Spirit Night: Skate City (Westminster)
DESCRIPTION:We’ve survived the first few weeks of school and now it’s time to get out and have some fun!  Join us at Skate City (Westminster) for some skating and help raise money for the WRE PTA.\n\nAdmission:  $7.00 and $3.00 skate rental (if needed)\nFundraising Potential:  The school will earn back at least $3 for each paid skater in the door\, provided we have a minimum of 50 total skaters!\nBonus:  Non-skating parents are free!
URL:https://www.westridgeelementarypta.com/event/spirit-night-skate-city-westminster/
LOCATION:Skate City\, 200 W 121st Avenue\, Westminster\, CO\, 80234\, United States
END:VEVENT
BEGIN:VEVENT
DTSTART;TZID=America/Denver:20220901T180000
DTEND;TZID=America/Denver:20220901T193000
DTSTAMP:20260421T133447
CREATED:20220720T094610Z
LAST-MODIFIED:20220803T000120Z
UID:1330-1662055200-1662060600@www.westridgeelementarypta.com
SUMMARY:PTA Meeting
DESCRIPTION:Please join us for a Welcome Reception beginning at 6:00 pm; the meeting will start at 6:15 pm.  Meetings are held in the library and free childcare is provided on-site. \nWe will be joined this month by WRE’s new School Resource Officer\,  Nicole Koehn\, and 27J Emergency and Preparedness Specialist\, Rachel Whitney\, who will both be speaking about School Safety. \nYou must be a paid WRE PTA Member to vote\, but membership is not required to attend meetings.  To become a WRE PTA Member\, please visit our website:  http://www.WestRidgeElementaryPTA.com
URL:https://www.westridgeelementarypta.com/event/pta-member-meeting/
LOCATION:West Ridge Elementary School – Library\, 13102 Monaco St\, Thornton\, CO\, 80602\, United States
END:VEVENT
BEGIN:VEVENT
DTSTART;TZID=America/Denver:20220826T170000
DTEND;TZID=America/Denver:20220826T190000
DTSTAMP:20260421T133447
CREATED:20220720T094142Z
LAST-MODIFIED:20220720T094142Z
UID:1327-1661533200-1661540400@www.westridgeelementarypta.com
SUMMARY:RUSH Kickoff & School Picnic
DESCRIPTION:Join us for an informal picnic and games!  Bring your own chair/blanket and picnic dinner.  A dessert food truck will be available for purchase of sweet treats.  Get all your questions answered about our school’s BIGGEST fundraiser\, Wildcat RUSH\, at the PTA table.
URL:https://www.westridgeelementarypta.com/event/rush-kickoff-school-picnic/
LOCATION:West Ridge Elementary School-Art Room\, 13102 Monaco Street\, Thornton\, 80602\, United States
END:VEVENT
BEGIN:VEVENT
DTSTART;TZID=America/Denver:20220824T123000
DTEND;TZID=America/Denver:20220824T153000
DTSTAMP:20260421T133447
CREATED:20220715T225258Z
LAST-MODIFIED:20220715T225258Z
UID:1314-1661344200-1661355000@www.westridgeelementarypta.com
SUMMARY:First Day of Preschool - PM Session
DESCRIPTION:First day of preschool at West Ridge.
URL:https://www.westridgeelementarypta.com/event/first-day-of-preschool-pm-session/
LOCATION:West Ridge Elementary School-Art Room\, 13102 Monaco Street\, Thornton\, 80602\, United States
END:VEVENT
BEGIN:VEVENT
DTSTART;TZID=America/Denver:20220824T075000
DTEND;TZID=America/Denver:20220824T105000
DTSTAMP:20260421T133447
CREATED:20220715T225104Z
LAST-MODIFIED:20220715T225104Z
UID:1312-1661327400-1661338200@www.westridgeelementarypta.com
SUMMARY:First Day of Preschool - AM Session
DESCRIPTION:First day of preschool at West Ridge.
URL:https://www.westridgeelementarypta.com/event/first-day-of-preschool-am-session/
LOCATION:West Ridge Elementary School-Art Room\, 13102 Monaco Street\, Thornton\, 80602\, United States
END:VEVENT
BEGIN:VEVENT
DTSTART;TZID=America/Denver:20220816T075000
DTEND;TZID=America/Denver:20220816T153000
DTSTAMP:20260421T133447
CREATED:20220705T053843Z
LAST-MODIFIED:20220715T231510Z
UID:1298-1660636200-1660663800@www.westridgeelementarypta.com
SUMMARY:First Day of School (K-5\, A-Z)
DESCRIPTION:This will be the first day of school for ALL Wildcats\, kindergarten through 5th grade. \nDoors open at 7:40 am. \nSchool day begins at 7:50 am. \nDismissal is at 3:30 pm.
URL:https://www.westridgeelementarypta.com/event/first-day-of-school-k-5/
LOCATION:West Ridge Elementary School-Art Room\, 13102 Monaco Street\, Thornton\, 80602\, United States
END:VEVENT
BEGIN:VEVENT
DTSTART;TZID=America/Denver:20220812T075000
DTEND;TZID=America/Denver:20220812T153000
DTSTAMP:20260421T133447
CREATED:20220705T054336Z
LAST-MODIFIED:20220715T230602Z
UID:1300-1660290600-1660318200@www.westridgeelementarypta.com
SUMMARY:TRAIL Day (K-5\, M-Z)
DESCRIPTION:This will be the first day of School  Year 2022 – 2023 for our kindergarten through 5th grade students\, with the last names beginning with letters M-Z. \nDoors open at 7:40 am. \nSchool day begins at 7:50 am. \nDismissal is at 3:30 pm.
URL:https://www.westridgeelementarypta.com/event/trail-day-k-5-m-z-2/
LOCATION:West Ridge Elementary School-Art Room\, 13102 Monaco Street\, Thornton\, 80602\, United States
END:VEVENT
BEGIN:VEVENT
DTSTART;TZID=America/Denver:20220811T075000
DTEND;TZID=America/Denver:20220811T153000
DTSTAMP:20260421T133447
CREATED:20220705T053535Z
LAST-MODIFIED:20220715T230401Z
UID:1294-1660204200-1660231800@www.westridgeelementarypta.com
SUMMARY:TRAIL Day (K-5\, A-L)
DESCRIPTION:This will be the first day of School  Year 2022 – 2023 for our kindergarten through 5th grade students\, with the last names beginning with letters A-L. \nDoors open at 7:40 am. \nSchool day begins at 7:50 am. \nDismissal is at 3:30 pm.
URL:https://www.westridgeelementarypta.com/event/trail-day-k-5-a-l/
LOCATION:West Ridge Elementary School-Art Room\, 13102 Monaco Street\, Thornton\, 80602\, United States
END:VEVENT
BEGIN:VEVENT
DTSTART;TZID=America/Denver:20220809T163000
DTEND;TZID=America/Denver:20220809T183000
DTSTAMP:20260421T133447
CREATED:20220705T055456Z
LAST-MODIFIED:20220715T225615Z
UID:1308-1660062600-1660069800@www.westridgeelementarypta.com
SUMMARY:Back to School Night
DESCRIPTION:Please join us for Back to School Night.  This is your chance to see your student’s new classroom\, meet their teacher and classmates\, and visit the PTA table for information\, giveaways and a special contest entry!  Return your Summer Reading BINGO sheets to receive your prize.
URL:https://www.westridgeelementarypta.com/event/back-to-school-night/
LOCATION:West Ridge Elementary School-Art Room\, 13102 Monaco Street\, Thornton\, 80602\, United States
END:VEVENT
BEGIN:VEVENT
DTSTART;TZID=America/Denver:20220806T100000
DTEND;TZID=America/Denver:20220806T120000
DTSTAMP:20260421T133447
CREATED:20220705T053024Z
LAST-MODIFIED:20220715T223320Z
UID:1292-1659780000-1659787200@www.westridgeelementarypta.com
SUMMARY:Kinder Play Date
DESCRIPTION:Join us for an informal play date and meet incoming kindergarteners and their families!  We’ll meet near the playground.  Light snacks and water will be provided.  Please note there will be NO bathroom or indoor access during this event.  We look forward to meeting our new Wildcats!
URL:https://www.westridgeelementarypta.com/event/kinder-play-date-3/
LOCATION:West Ridge Elementary School-Art Room\, 13102 Monaco Street\, Thornton\, 80602\, United States
END:VEVENT
BEGIN:VEVENT
DTSTART;TZID=America/Denver:20220715T160000
DTEND;TZID=America/Denver:20220715T180000
DTSTAMP:20260421T133447
CREATED:20220705T052820Z
LAST-MODIFIED:20220715T224006Z
UID:1290-1657900800-1657908000@www.westridgeelementarypta.com
SUMMARY:Kinder Play Date
DESCRIPTION:Join us for an informal play date and meet incoming kindergarteners and their families!  We’ll meet near the playground.  Light snacks and water will be provided.  Please note there will be NO bathroom or indoor access during this event.  We look forward to meeting our new Wildcats!
URL:https://www.westridgeelementarypta.com/event/kinder-play-date-2/
LOCATION:West Ridge Elementary School-Art Room\, 13102 Monaco Street\, Thornton\, 80602\, United States
END:VEVENT
BEGIN:VEVENT
DTSTART;TZID=Africa/Abidjan:20220613T120000
DTEND;TZID=Africa/Abidjan:20220613T140000
DTSTAMP:20260421T133447
CREATED:20220606T054322Z
LAST-MODIFIED:20220606T054322Z
UID:1283-1655121600-1655128800@www.westridgeelementarypta.com
SUMMARY:Kinder Play Date
DESCRIPTION:Join us for an informal play date and meet other incoming kindergarteners and their families!  Light snacks and water will be provided.  We’ll meet on the playground!  Please note: there will be no bathroom/indoor access during this event.  We look forward to meeting our new Wildcats!
URL:https://www.westridgeelementarypta.com/event/kinder-play-date/
LOCATION:West Ridge Elementary School-Art Room\, 13102 Monaco Street\, Thornton\, 80602\, United States
END:VEVENT
BEGIN:VEVENT
DTSTART;TZID=America/Denver:20220525T153000
DTEND;TZID=America/Denver:20220525T163000
DTSTAMP:20260421T133447
CREATED:20220413T024244Z
LAST-MODIFIED:20220413T024244Z
UID:1270-1653492600-1653496200@www.westridgeelementarypta.com
SUMMARY:Last Day of School
DESCRIPTION:Join us on Wednesday\, May 25th to bid adieu to our exiting 5th graders as they walk the West Ridge red carpet one final time (in the front of the main doors after the last bell and all other students have been released).  Kona Ice Truck will be selling shaved ice of all flavors and Sokare Food Truck will be serving up declicious afteerschool snacks.  This is the last day of school for Kinders thru Fifth graders; Pre-schoolers last day is on May 20th.
URL:https://www.westridgeelementarypta.com/event/last-day-of-school/
LOCATION:West Ridge Elementary School-Art Room\, 13102 Monaco Street\, Thornton\, 80602\, United States
END:VEVENT
BEGIN:VEVENT
DTSTART;TZID=America/Denver:20220520T090000
DTEND;TZID=America/Denver:20220520T144500
DTSTAMP:20260421T133447
CREATED:20220413T025443Z
LAST-MODIFIED:20220413T025443Z
UID:1273-1653037200-1653057900@www.westridgeelementarypta.com
SUMMARY:Field Day - Grades 1 - 5
DESCRIPTION:Parents are welcome to attend Field Day on Friday\, May 20th and watch their kids run around and have fun (siblings may attend\, but cannot join in on the activities).  The first set of games will kick off at 9:00am and end at 2:45pm with a lunch break in between.  Feel free to pack your own lunch and bring a lawn chair. There is no need to check in at the office\, as the events are held outside.
URL:https://www.westridgeelementarypta.com/event/field-day-grades-1-5/
LOCATION:West Ridge Elementary School-Art Room\, 13102 Monaco Street\, Thornton\, 80602\, United States
END:VEVENT
BEGIN:VEVENT
DTSTART;VALUE=DATE:20220519
DTEND;VALUE=DATE:20220520
DTSTAMP:20260421T133447
CREATED:20220413T025915Z
LAST-MODIFIED:20220413T025915Z
UID:1275-1652918400-1653004799@www.westridgeelementarypta.com
SUMMARY:Field Day - Pre-School & Kindergarten
DESCRIPTION:Parents are welcome to attend Field Day for their Preschooler or Kinder on May 19th\, to watch them run around and have fun (siblings may attend\, but cannot join in on the activities).   Feel free to pack your lunch and bring a lawn chair. There is no need to check in at the office\, as the events are held outside.  Schedule/times are not yet set. Please keep an eye out for more details to come later.
URL:https://www.westridgeelementarypta.com/event/field-day-pre-school-kindergarten/
LOCATION:West Ridge Elementary School-Art Room\, 13102 Monaco Street\, Thornton\, 80602\, United States
END:VEVENT
BEGIN:VEVENT
DTSTART;TZID=America/Denver:20220506T173000
DTEND;TZID=America/Denver:20220506T200000
DTSTAMP:20260421T133447
CREATED:20220223T215935Z
LAST-MODIFIED:20220401T231445Z
UID:1248-1651858200-1651867200@www.westridgeelementarypta.com
SUMMARY:Family Game Night
DESCRIPTION:Family Game night is fun for the entire family! Come and join us at the school for an evening of fun and community. Games\, food trucks\, and gathering with friends….what a great way to wrap up the year! Stay tuned for more details!
URL:https://www.westridgeelementarypta.com/event/family-game-night/
END:VEVENT
BEGIN:VEVENT
DTSTART;TZID=America/Denver:20220504T180000
DTEND;TZID=America/Denver:20220504T193000
DTSTAMP:20260421T133447
CREATED:20220727T090703Z
LAST-MODIFIED:20220727T090703Z
UID:1447-1651687200-1651692600@www.westridgeelementarypta.com
SUMMARY:PTA Member Meeting
DESCRIPTION:Please join us for a Welcome Reception beginning at 6:00 pm; the meeting will start at 6:15 pm.  Meetings are held in the library and free childcare is provided on-site. \nThis will be the final WRE PTA Member Meeting for the School Year 2022-2023. \nYou must be a paid PTA Member to vote\, but membership is not required to attend meetings.  To become a WRE PTA Member\, please visit our website:  http://www.WestRidgeElementaryPTA.com
URL:https://www.westridgeelementarypta.com/event/pta-member-meeting-9/
LOCATION:West Ridge Elementary School – Library\, 13102 Monaco St\, Thornton\, CO\, 80602\, United States
END:VEVENT
BEGIN:VEVENT
DTSTART;VALUE=DATE:20220503
DTEND;VALUE=DATE:20220507
DTSTAMP:20260421T133447
CREATED:20220401T234353Z
LAST-MODIFIED:20220401T234615Z
UID:1261-1651536000-1651881599@www.westridgeelementarypta.com
SUMMARY:Teacher Appreciation Week
DESCRIPTION:Tuesday 5/3: The Perk Up Truck is coming back! We will have an opportunity to help sponsor drinks for staff. \nWednesday 5/4: We have succulent plants for each staff member donated by The Home Depot. \nThursday 5/5: We’re spicing it up! Our staff will be able to celebrate Cinco de Mayo with chips and salsa donated by CrossRoads Church and 3 Margaritas in Orchard Town Center. \nFriday 5/6: Marco’s Pizza will be providing lunch as part of their sponsorship of the school. \nLooking for a list of staff favorites? Click here to find what you need!
URL:https://www.westridgeelementarypta.com/event/teacher-appreciation-week/
END:VEVENT
BEGIN:VEVENT
DTSTART;TZID=America/Denver:20220422T183000
DTEND;TZID=America/Denver:20220422T200000
DTSTAMP:20260421T133447
CREATED:20220223T215736Z
LAST-MODIFIED:20220401T232746Z
UID:1246-1650652200-1650657600@www.westridgeelementarypta.com
SUMMARY:Bingo for Books
DESCRIPTION:Save the date for this family favorite! \nBingo for Books is one of our school’s favorite events. Bring a book for a free bingo card. Bingo cards are also available to purchase for $1.
URL:https://www.westridgeelementarypta.com/event/bingo-for-books/
LOCATION:West Ridge Elementary – Gymnasium\, 13102 Monaco St\, Thornton\, CO\, 80602\, United States
END:VEVENT
BEGIN:VEVENT
DTSTART;VALUE=DATE:20220418
DTEND;VALUE=DATE:20220426
DTSTAMP:20260421T133447
CREATED:20220414T201421Z
LAST-MODIFIED:20220414T202123Z
UID:1277-1650240000-1650931199@www.westridgeelementarypta.com
SUMMARY:Spirit Week - Frenchies Nails
DESCRIPTION:Spirit Week at Frenchies is coming up soon! enoy a selfcare day and get your fingers and toes pampered.  Appointments are highly recommended\, so get your appointment booked for the week of April 18-25. You can book via phone (303-550-8283) or online frenchiesnails.com/find-your-studio and Select Book Now at the Thornton studio.  Make sure to mention West Ridge Spirit Week when you book or when you go in for your appointment! Closed on Tuesday’s.
URL:https://www.westridgeelementarypta.com/event/spirit-week-frenchies-nails/
LOCATION:Frenchies\, 7345 E 128th Ave\, Thornton\, CO\, 80602
END:VEVENT
BEGIN:VEVENT
DTSTART;TZID=America/Denver:20220414T170000
DTEND;TZID=America/Denver:20220414T210000
DTSTAMP:20260421T133447
CREATED:20220401T233454Z
LAST-MODIFIED:20220413T022435Z
UID:1255-1649955600-1649970000@www.westridgeelementarypta.com
SUMMARY:Spirit Night - Parry's Pizza
DESCRIPTION:Join us for another delicious spirit night at Parry’s Pizza! Parry’s offers a wide menu selection\, and will be kicking back a percentage of dine-in and to-go sales from 5-9pm when you mention West Ridge Elementary.  To save time\, you can join Parry’s waitlist by calling them or visiting their website.
URL:https://www.westridgeelementarypta.com/event/spirit-night-parrys-pizza/
LOCATION:Parry’s Pizza\, 100 E 120th Ave\, Northglenn\, CO\, 80233
END:VEVENT
BEGIN:VEVENT
DTSTART;TZID=America/Denver:20220406T183000
DTEND;TZID=America/Denver:20220406T193000
DTSTAMP:20260421T133447
CREATED:20220401T233123Z
LAST-MODIFIED:20220401T233123Z
UID:1253-1649269800-1649273400@www.westridgeelementarypta.com
SUMMARY:PTA Meeting
DESCRIPTION:Join us for our final PTA meeting of the year! The meeting is open to the public\, and new members are ALWAYS welcome! We’ll be discussing the final events of the year and celebrating our volunteers with a small pizza party.
URL:https://www.westridgeelementarypta.com/event/pta-meeting-3/
LOCATION:West Ridge Elementary School – Library\, 13102 Monaco St\, Thornton\, CO\, 80602\, United States
END:VEVENT
BEGIN:VEVENT
DTSTART;VALUE=DATE:20220323
DTEND;VALUE=DATE:20220327
DTSTAMP:20260421T133447
CREATED:20220130T093814Z
LAST-MODIFIED:20220130T093814Z
UID:1201-1647993600-1648339199@www.westridgeelementarypta.com
SUMMARY:SPRING BREAK - No School
DESCRIPTION:Enjoy your break! We look forward to seeing you back at school on March 29th to finish out our final quarter.
URL:https://www.westridgeelementarypta.com/event/spring-break-no-school/
END:VEVENT
BEGIN:VEVENT
DTSTART;TZID=UTC:20220311T183000
DTEND;TZID=UTC:20220311T200000
DTSTAMP:20260421T133447
CREATED:20220223T215458Z
LAST-MODIFIED:20220223T215458Z
UID:1244-1647023400-1647028800@www.westridgeelementarypta.com
SUMMARY:School Dance - Barnyard Boogie
DESCRIPTION:Come and join us for this family event! Wildcats and their adults are invited to boogie into the night with us. Our favorite DJ is back\, and we’ll have concessions available as well. We can’t wait to see you there!
URL:https://www.westridgeelementarypta.com/event/school-dance-barnyard-boogie/
LOCATION:West Ridge Elementary – Gymnasium\, 13102 Monaco St\, Thornton\, CO\, 80602\, United States
END:VEVENT
BEGIN:VEVENT
DTSTART;TZID=UTC:20220303T160000
DTEND;TZID=UTC:20220303T170000
DTSTAMP:20260421T133447
CREATED:20220130T081402Z
LAST-MODIFIED:20220302T040524Z
UID:1197-1646323200-1646326800@www.westridgeelementarypta.com
SUMMARY:Kindergarten Round-up
DESCRIPTION:Calling all future kindergarten families! West Ridge is hosting their annual Kindergarten Round Up on March 3 from 4pm – 5pm in the school gymnasium. We can’t wait to meet our future Wildcat families! If you have a future kindergartener or know someone who does\, please share the date with them. Your PTA will be present to provide information about membership. It’s never too early to get involved!
URL:https://www.westridgeelementarypta.com/event/kindergarten-round-up/
LOCATION:West Ridge Elementary – Gymnasium\, 13102 Monaco St\, Thornton\, CO\, 80602\, United States
END:VEVENT
BEGIN:VEVENT
DTSTART;TZID=UTC:20220302T183000
DTEND;TZID=UTC:20220302T193000
DTSTAMP:20260421T133447
CREATED:20220130T080502Z
LAST-MODIFIED:20220130T080502Z
UID:1195-1646245800-1646249400@www.westridgeelementarypta.com
SUMMARY:PTA Meeting
DESCRIPTION:Join us for our monthly PTA meeting! This month we will be electing officers for our open positions for the upcoming school year.
URL:https://www.westridgeelementarypta.com/event/pta-meeting-2/
LOCATION:West Ridge Elementary School – Library\, 13102 Monaco St\, Thornton\, CO\, 80602\, United States
END:VEVENT
END:VCALENDAR